BEGIN:VCALENDAR
VERSION:2.0
PRODID:-//BIO OSTHOFEN | EINKAUFSGEMEINSCHAFT | UNVERPACKTLADEN - ECPv6.15.20//NONSGML v1.0//EN
CALSCALE:GREGORIAN
METHOD:PUBLISH
X-WR-CALNAME:BIO OSTHOFEN | EINKAUFSGEMEINSCHAFT | UNVERPACKTLADEN
X-ORIGINAL-URL:https://bio-osthofen.de
X-WR-CALDESC:Veranstaltungen für BIO OSTHOFEN | EINKAUFSGEMEINSCHAFT | UNVERPACKTLADEN
REFRESH-INTERVAL;VALUE=DURATION:PT1H
X-Robots-Tag:noindex
X-PUBLISHED-TTL:PT1H
BEGIN:VTIMEZONE
TZID:Europe/Paris
BEGIN:DAYLIGHT
TZOFFSETFROM:+0100
TZOFFSETTO:+0200
TZNAME:CEST
DTSTART:20250330T010000
END:DAYLIGHT
BEGIN:STANDARD
TZOFFSETFROM:+0200
TZOFFSETTO:+0100
TZNAME:CET
DTSTART:20251026T010000
END:STANDARD
BEGIN:DAYLIGHT
TZOFFSETFROM:+0100
TZOFFSETTO:+0200
TZNAME:CEST
DTSTART:20260329T010000
END:DAYLIGHT
BEGIN:STANDARD
TZOFFSETFROM:+0200
TZOFFSETTO:+0100
TZNAME:CET
DTSTART:20261025T010000
END:STANDARD
BEGIN:DAYLIGHT
TZOFFSETFROM:+0100
TZOFFSETTO:+0200
TZNAME:CEST
DTSTART:20270328T010000
END:DAYLIGHT
BEGIN:STANDARD
TZOFFSETFROM:+0200
TZOFFSETTO:+0100
TZNAME:CET
DTSTART:20271031T010000
END:STANDARD
END:VTIMEZONE
BEGIN:VEVENT
DTSTART;TZID=Europe/Paris:20260523T150000
DTEND;TZID=Europe/Paris:20260523T173000
DTSTAMP:20260421T094448
CREATED:20260312T155443Z
LAST-MODIFIED:20260312T180649Z
UID:2871-1779548400-1779557400@bio-osthofen.de
SUMMARY:Mikronährstoffe in (Un-)Kräutern: Geheimnisse für deine Gesundheit
DESCRIPTION:Unsere Wiesen sind voller Schätze 🌱 \nIn unserem Kurs zeigen wir euch\, welche Mikronährstoffe in heimischen Kräutern stecken – und wie ihr sie ganz praktisch nutzen könnt. \n👩‍🌾 Jenny & Natascha stellen euch 5 ausgewählte Kräuter vor  🍽️ inklusive leckerer Rezepte mit direkten Umsetzung \nWas ist für Dich dabei: \n\nvorgezogene Kräuter zum mitnehmen & zuhause einpflanzen 🌱\nSamen zum Aussähen auf dem Balkon oder im Garten 🪏\nKräuter-Tasting 😋\nUmfangreiches Handout 📒\nRezepte 🥣\n\nLust auf mehr Wissen\, Geschmack & Natur? Dann seid dabei 💚 \nAnmeldung unter: einkauf@bio-osthofen.de \nNoch keine Zusage von uns bekommen?? Bitte regelmäßig in den Spamordner schauen🫣
URL:https://bio-osthofen.de/event/mikronaehrstoffe-in-un-kraeutern-geheimnisse-fuer-deine-gesundheit/
LOCATION:Bio-Osthofen\, Rheinstr. 15\, Osthofen\, Rheinland-Pfalz\, 67574
CATEGORIES:Workshops
ATTACH;FMTTYPE=image/png:https://bio-osthofen.de/wp-content/uploads/2026/03/HP_Kraeuter.png
ORGANIZER;CN="Einkaufsgemeinschaft Osthofen e.V.":MAILTO:einkauf@bio-osthofen.de
END:VEVENT
END:VCALENDAR